BEGIN:VCALENDAR
VERSION:2.0
PRODID:-//naujasis europinis bauhauzas - ECPv6.15.20//NONSGML v1.0//EN
CALSCALE:GREGORIAN
METHOD:PUBLISH
X-ORIGINAL-URL:https://neb.lt
X-WR-CALDESC:Events for naujasis europinis bauhauzas
REFRESH-INTERVAL;VALUE=DURATION:PT1H
X-Robots-Tag:noindex
X-PUBLISHED-TTL:PT1H
BEGIN:VTIMEZONE
TZID:UTC
BEGIN:STANDARD
TZOFFSETFROM:+0000
TZOFFSETTO:+0000
TZNAME:UTC
DTSTART:20200101T000000
END:STANDARD
END:VTIMEZONE
BEGIN:VTIMEZONE
TZID:Europe/Helsinki
BEGIN:DAYLIGHT
TZOFFSETFROM:+0200
TZOFFSETTO:+0300
TZNAME:EEST
DTSTART:20200329T010000
END:DAYLIGHT
BEGIN:STANDARD
TZOFFSETFROM:+0300
TZOFFSETTO:+0200
TZNAME:EET
DTSTART:20201025T010000
END:STANDARD
BEGIN:DAYLIGHT
TZOFFSETFROM:+0200
TZOFFSETTO:+0300
TZNAME:EEST
DTSTART:20210328T010000
END:DAYLIGHT
BEGIN:STANDARD
TZOFFSETFROM:+0300
TZOFFSETTO:+0200
TZNAME:EET
DTSTART:20211031T010000
END:STANDARD
BEGIN:DAYLIGHT
TZOFFSETFROM:+0200
TZOFFSETTO:+0300
TZNAME:EEST
DTSTART:20220327T010000
END:DAYLIGHT
BEGIN:STANDARD
TZOFFSETFROM:+0300
TZOFFSETTO:+0200
TZNAME:EET
DTSTART:20221030T010000
END:STANDARD
END:VTIMEZONE
BEGIN:VEVENT
DTSTART;TZID=UTC:20220622T080000
DTEND;TZID=UTC:20220622T170000
DTSTAMP:20260422T090703
CREATED:20220622T121413Z
LAST-MODIFIED:20220622T121413Z
UID:488-1655884800-1655917200@neb.lt
SUMMARY:Žemųjų Šančių bendruomenės projektas „Genius Loci: urbanizacija ir pilietinė bendruomenė“ tapo Naujojo europinio bauhauzo (NEB) II-osios vietos prizo nugalėtoju kategorijoje „Bendrystės jausmo atgaivinimas“!
DESCRIPTION:Žemųjų Šančių bendruomenės projektas „Genius Loci: urbanizacija ir pilietinė bendruomenė“ tapo Naujojo europinio bauhauzo (NEB) II-osios vietos prizo nugalėtoju kategorijoje „Bendrystės jausmo atgaivinimas“!\n\n\nNEB prizas padės šiam projektui toliau skleisti žinią apie piliečių įsitraukimą\, bendrystę ir dalyvavimą kuriant Kauno Šančių rajono teritorijos viziją.\n\n\n„Genius Loci“ – tai skaitmeninių žemėlapių sudarymo įrankis. Vienas iš projekto tikslų – spręsti nedarnios urbanizacijos problemą Šančių rajone \n\n\nSveikiname „Genius Loci: urbanizacija ir pilietinė bendruomenė“ komandą!
URL:https://neb.lt/renginiai/zemuju-sanciu-bendruomenes-projektas-genius-loci-urbanizacija-ir-pilietine-bendruomene-tapo-naujojo-europinio-bauhauzo-neb-ii-osios-vietos-prizo-nugaletoju-kategorijoje-b/
END:VEVENT
BEGIN:VEVENT
DTSTART;TZID=Europe/Helsinki:20210507T100000
DTEND;TZID=Europe/Helsinki:20210507T123000
DTSTAMP:20260422T090703
CREATED:20210421T083739Z
LAST-MODIFIED:20210505T070610Z
UID:432-1620381600-1620390600@neb.lt
SUMMARY:KŪRYBINĖS DIRBTUVĖS: Kvartalinės renovacijos iššūkiai ir galimybės Lietuvoje (II dalis)
DESCRIPTION:      \nDirbtuves moderuos Lietuvos Architektų sąjungos pirmininkė Rūta Leitanaitė kartu su urbaniste Giedre Ratkute Skačkauskiene. \nHolistinė kvartalinė dauvgiabučių (statytų XX a. antroje pusėje) renovacija turi apimti ne tik energetinį efektyvumą. Planuojant viso kvartalo renovaciją\, galima užtikrinti architektūrinio įvaizdžio bendrumą\, urbanistinės struktūros logiką\, vientisumą ir funkcionalumą. Praplėtus renovacijos ribas nuo sienų paviršiaus ir inžinerinių sistemų\, galima pagerinti individualų būstą (išplečiant\, perplanuojant jo erdves)\, o taip pat sukurti patrauklias bendrąsias erdves pastate ir jo aplinkoje lauke. Kompleksinė renovacija gali būti ne tik fizinės aplinkos atnaujinimas\, bet ir viso gyvenimo bute būdo „perkrovimas“. Tai – procesas\, kurio metu gali gimti\, stiprėti\, naujas kokybiškos aplinkos kompetencijas įgyti čia gyvenanti bendruomenė; kurio metu gali susiformuoti nauji bendrų erdvių\, bendro gyvenimo ir sugyvenimo\, kūrybinių idėjų mainų tarp bendruomenės narių bei bendruomenių ir miesto kultūra. \nSiekiant tarpdiscipliniškumo suteikiamo plataus problemų matymo ir idėjų generavimo spektro\, dalyvauti iniciatyvoje kviečiami įvairių profesijų\, kompetencijų ir interesų atstovai. \nŠia iniciatyva siekiama sukurti metodologiją ir gerų sprendimų bei praktikos katalogą. Šiam rezultatui pasiekti planuojama teikti paraišką gauti finansavimui kaip vienam iš būsimųjų NEB pilotinių projektų. \nKūrybinių dirbtuvių metu pagal specializacijas\, kompetencijas ir interesus sugrupuoti organizatorių pakviesti dalyviai diskutuos ir bandys atsakyti į klausimus: \n\nKokios problemos\, susijusios su kvartaline renovacija\, matomos konkrečioje srityje/specializacijoje?\nKokios naujos idėjos ir kokie jau įvykdyti / vykdomi tyrimai\, iniciatyvos prisidėtų prie kokybiškos kvartalinės renovacijos?\nKokios kliūtys trukdo tokių idėjų įgyvendinimui?\nKokių įrankių\, veiksmų\, pokyčių reikėtų\, kad būtų galima išspręsti problemas ir įgyvendinti idėjas?\n\nNuoroda stebėti dirbtuves
URL:https://neb.lt/renginiai/kurybines-dirbtuves-kvartalines-renovacijos-issukiai-ir-galimybes-lietuvoje-ii-dalis/
CATEGORIES:KŪRYBINĖS DIRBTUVĖS
ORGANIZER;CN="neb.lt":MAILTO:info@neb.lt
END:VEVENT
BEGIN:VEVENT
DTSTART;TZID=Europe/Helsinki:20210506T160000
DTEND;TZID=Europe/Helsinki:20210506T173000
DTSTAMP:20260422T090703
CREATED:20210421T082620Z
LAST-MODIFIED:20210427T102422Z
UID:424-1620316800-1620322200@neb.lt
SUMMARY:KŪRYBINĖS DIRBTUVĖS: Tvaraus dizaino sprendimai viešajame sektoriuje (II dalis)
DESCRIPTION:Dirbtuves modernuos Ieva Ščervianinaitė ir Jonas Liugaila \nLietuvos viešasis sektorius yra ne tik didelis produktų\, paslaugų ir darbų vartotojas (viešųjų pirkimų praėjusių metų vertė – 5\,56 mlrd. eurų)\, bet ir potencionalus tendencijų diegėjas\, nes šio sektoriaus galutinio rezultato vartotojai yra visa visuomenė. Deja\, tik nedidelė šių pirkimų dalis paiso aplinkos apsaugos kriterijus. Žaliųjų pirkimų 2019-aisiais skaičius sudarė 2\,3 proc. visų pirkimų\, o tarkim iš visų pirktų leidybos\, spausdinimo ir su spausdinimu susijusių paslaugų\, tik 5\,9 proc. buvo „žalios“. \nKūrybinėse dirbtuvėse koncentruosimės į dizaino srities viešųjų pirkimų\, tokių\, kaip\, informacinių stendų\, leidinių\, vizualinių identitetų\, interneto svetainių\, programinės įrangos\, interjerų\, baldų sukūrimo paslaugas ir ieškosime būdų\, kaip įgalinti viešąjį sektorių idant dizaino srities pirkimai trumpalaikėje ir ilgalaikėje perspektyvoje paisytų aplinkos apsaugos kriterijų ir prisidėtnebljonų prie Europos žaliojo kurso ambicijos. \nNuoroda tiesiogiai stebėti dirbtuves.
URL:https://neb.lt/renginiai/kurybines-dirbtuves-dizainas-ir-viesieji-pirkimai-kaip-atrasti-geresni-santyki-2-dalis/
CATEGORIES:KŪRYBINĖS DIRBTUVĖS
END:VEVENT
BEGIN:VEVENT
DTSTART;TZID=Europe/Helsinki:20210430T100000
DTEND;TZID=Europe/Helsinki:20210430T123000
DTSTAMP:20260422T090703
CREATED:20210421T083626Z
LAST-MODIFIED:20210430T070528Z
UID:427-1619776800-1619785800@neb.lt
SUMMARY:KŪRYBINĖS DIRBTUVĖS: Kvartalinės renovacijos iššūkiai ir galimybės Lietuvoje (I dalis)
DESCRIPTION:      \nDirbtuves moderuos Lietuvos Architektų sąjungos pirmininkė Rūta Leitanaitė kartu su urbaniste Giedre Ratkute Skačkauskiene. \nHolistinė kvartalinė dauvgiabučių (statytų XX a. antroje pusėje) renovacija turi apimti ne tik energetinį efektyvumą. Planuojant viso kvartalo renovaciją\, galima užtikrinti architektūrinio įvaizdžio bendrumą\, urbanistinės struktūros logiką\, vientisumą ir funkcionalumą. Praplėtus renovacijos ribas nuo sienų paviršiaus ir inžinerinių sistemų\, galima pagerinti individualų būstą (išplečiant\, perplanuojant jo erdves)\, o taip pat sukurti patrauklias bendrąsias erdves pastate ir jo aplinkoje lauke. Kompleksinė renovacija gali būti ne tik fizinės aplinkos atnaujinimas\, bet ir viso gyvenimo bute būdo „perkrovimas“. Tai – procesas\, kurio metu gali gimti\, stiprėti\, naujas kokybiškos aplinkos kompetencijas įgyti čia gyvenanti bendruomenė; kurio metu gali susiformuoti nauji bendrų erdvių\, bendro gyvenimo ir sugyvenimo\, kūrybinių idėjų mainų tarp bendruomenės narių bei bendruomenių ir miesto kultūra. \nSiekiant tarpdiscipliniškumo suteikiamo plataus problemų matymo ir idėjų generavimo spektro\, dalyvauti iniciatyvoje kviečiami įvairių profesijų\, kompetencijų ir interesų atstovai. \nŠia iniciatyva siekiama sukurti metodologiją ir gerų sprendimų bei praktikos katalogą. Šiam rezultatui pasiekti planuojama teikti paraišką gauti finansavimui kaip vienam iš būsimųjų NEB pilotinių projektų. \nKūrybinių dirbtuvių metu pagal specializacijas\, kompetencijas ir interesus sugrupuoti organizatorių pakviesti dalyviai diskutuos ir bandys atsakyti į klausimus: \n\nKokios problemos\, susijusios su kvartaline renovacija\, matomos konkrečioje srityje/specializacijoje?\nKokios naujos idėjos ir kokie jau įvykdyti / vykdomi tyrimai\, iniciatyvos prisidėtų prie kokybiškos kvartalinės renovacijos?\nKokios kliūtys trukdo tokių idėjų įgyvendinimui?\nKokių įrankių\, veiksmų\, pokyčių reikėtų\, kad būtų galima išspręsti problemas ir įgyvendinti idėjas?\n\nNuoroda stebėti dirbtuves tiesiogiai
URL:https://neb.lt/renginiai/kurybines-dirbtuves-kvartalines-renovacijos-issukiai-ir-galimybes-lietuvoje-i-dalis/
CATEGORIES:KŪRYBINĖS DIRBTUVĖS
ORGANIZER;CN="neb.lt":MAILTO:info@neb.lt
END:VEVENT
BEGIN:VEVENT
DTSTART;TZID=Europe/Helsinki:20210429T160000
DTEND;TZID=Europe/Helsinki:20210429T173000
DTSTAMP:20260422T090703
CREATED:20210421T082313Z
LAST-MODIFIED:20210427T102527Z
UID:422-1619712000-1619717400@neb.lt
SUMMARY:KŪRYBINĖS DIRBTUVĖS: Tvaraus dizaino sprendimai viešajame sektoriuje (I dalis)
DESCRIPTION:Dirbtuves modernuos Ieva Ščervianinaitė ir Jonas Liugaila \nLietuvos viešasis sektorius yra ne tik didelis produktų\, paslaugų ir darbų vartotojas (viešųjų pirkimų praėjusių metų vertė – 5\,56 mlrd. eurų)\, bet ir potencionalus tendencijų diegėjas\, nes šio sektoriaus galutinio rezultato vartotojai yra visa visuomenė. Deja\, tik nedidelė šių pirkimų dalis paiso aplinkos apsaugos kriterijus. Žaliųjų pirkimų 2019-aisiais skaičius sudarė 2\,3 proc. visų pirkimų\, o tarkim iš visų pirktų leidybos\, spausdinimo ir su spausdinimu susijusių paslaugų\, tik 5\,9 proc. buvo „žalios“. \nKūrybinėse dirbtuvėse koncentruosimės į dizaino srities viešųjų pirkimų\, tokių\, kaip\, informacinių stendų\, leidinių\, vizualinių identitetų\, interneto svetainių\, programinės įrangos\, interjerų\, baldų sukūrimo paslaugas ir ieškosime būdų\, kaip įgalinti viešąjį sektorių idant dizaino srities pirkimai trumpalaikėje ir ilgalaikėje perspektyvoje paisytų aplinkos apsaugos kriterijų ir prisidėtų prie Europos žaliojo kurso ambicijos. \nNuoroda tiesiogiai stebėti dirbtuves.
URL:https://neb.lt/renginiai/kurybines-dirbtuves-dizainas-ir-viesieji-pirkimai-kaip-atrasti-geresni-santyki/
CATEGORIES:KŪRYBINĖS DIRBTUVĖS
ORGANIZER;CN="neb.lt":MAILTO:info@neb.lt
END:VEVENT
BEGIN:VEVENT
DTSTART;TZID=Europe/Helsinki:20210427T130000
DTEND;TZID=Europe/Helsinki:20210427T150000
DTSTAMP:20260422T090703
CREATED:20210421T081529Z
LAST-MODIFIED:20210427T102112Z
UID:413-1619528400-1619535600@neb.lt
SUMMARY:KŪRYBINĖS DIRBTUVĖS: Kultūra ir tvarios gyvenamosios aplinkos kūrimas
DESCRIPTION:Dirbtuves moderuos Euginijus Kaminskis \nXwhy Agency of Understanding \nNaujojo Europinio Bauhauso (NEB) kontekste\, gyvenamosios aplinkos kūrimas yra horizontalus procesas\, kurio tikslas – įgyvendinti ekonominius\, socialinius\, kultūrinius ir aplinkos tikslus. Tam būtinas kompleksinis požiūris\, nauji bendradarbiavimo modeliai\, visuomenės įtraukimo būdai\, vertės matavimo instrumentai. \nDirbtuvių metu bus įvardinti konkretūs būdai kaip integruoti skirtingas kultūros sritis į tvarios\, kokybiškos ir įtraukios gyvenamosios aplinkos kūrimą. Dalyviai ieškos sąsajų tarp konkrečių kultūros sričių ir NEB prioritetų\, galimų intervencijos sričių\, ir kurs pilotines iniciatyvas\, jungiančias kultūrą su kitais sektoriais\, bei prisidedančias prie tvarios gyvenamosios aplinkos kūrimo. \nNuoroda stebėti dirbtuves 
URL:https://neb.lt/renginiai/kurybines-dirbtuves-kultura-ir-tvarios-gyvenamosios-aplinkos-kurimas/
CATEGORIES:KŪRYBINĖS DIRBTUVĖS
ORGANIZER;CN="neb.lt":MAILTO:info@neb.lt
END:VEVENT
BEGIN:VEVENT
DTSTART;TZID=Europe/Helsinki:20210423T150000
DTEND;TZID=Europe/Helsinki:20210423T180000
DTSTAMP:20260422T090703
CREATED:20210416T084031Z
LAST-MODIFIED:20210423T074311Z
UID:399-1619190000-1619200800@neb.lt
SUMMARY:Europos Komisijos NEB konferencija
DESCRIPTION:2021-04-22 – 2021-04-23 vyks Europos Komisijos NEB konferencija \nDaugiau informacijos apie konferenciją ir registracija – renginio nuorodoje.
URL:https://neb.lt/renginiai/europos-komisijos-neb-konferencija-2/
END:VEVENT
BEGIN:VEVENT
DTSTART;TZID=UTC:20210422T140000
DTEND;TZID=UTC:20210422T174500
DTSTAMP:20260422T090703
CREATED:20210416T083137Z
LAST-MODIFIED:20210416T083807Z
UID:393-1619100000-1619113500@neb.lt
SUMMARY:Europos Komisijos NEB konferencija
DESCRIPTION:2021-04-22 – 2021-04-23 vyks Europos Komisijos NEB konferencija \nDaugiau informacijos apie konferenciją ir registracija renginio nuorodoje.
URL:https://neb.lt/renginiai/europos-komisijos-neb-konferencija/
END:VEVENT
END:VCALENDAR